BEGIN:VCALENDAR
VERSION:2.0
PRODID:-//Suro Bharati Sangeet Kala Kendra - ECPv6.15.20//NONSGML v1.0//EN
CALSCALE:GREGORIAN
METHOD:PUBLISH
X-ORIGINAL-URL:https://sskalakendra.org
X-WR-CALDESC:Events for Suro Bharati Sangeet Kala Kendra
REFRESH-INTERVAL;VALUE=DURATION:PT1H
X-Robots-Tag:noindex
X-PUBLISHED-TTL:PT1H
BEGIN:VTIMEZONE
TZID:Asia/Kolkata
BEGIN:STANDARD
TZOFFSETFROM:+0530
TZOFFSETTO:+0530
TZNAME:IST
DTSTART:20240101T000000
END:STANDARD
END:VTIMEZONE
BEGIN:VEVENT
DTSTART;TZID=Asia/Kolkata:20250108T110000
DTEND;TZID=Asia/Kolkata:20250108T153000
DTSTAMP:20260420T215706
CREATED:20241223T083702Z
LAST-MODIFIED:20241227T105208Z
UID:43762-1736334000-1736350200@sskalakendra.org
SUMMARY:𝐁𝐚𝐧𝐤𝐮𝐫𝐚 𝐙𝐨𝐧𝐚𝐥 𝐌𝐞𝐞𝐭𝐢𝐧𝐠
DESCRIPTION:
URL:https://sskalakendra.org/event/bankura-zonal-meeting/
LOCATION:Hotel Debarshi\, Hotel Debarshi\,Lal Bazar Rd\, Bankura\, Bankura\, West Bengal\, 722101\, India
CATEGORIES:Zonal Meeting
ATTACH;FMTTYPE=image/jpeg:https://sskalakendra.org/wp-content/uploads/471486148_995667825940289_2196231904539550128_n.jpg
END:VEVENT
BEGIN:VEVENT
DTSTART;TZID=Asia/Kolkata:20250109T110000
DTEND;TZID=Asia/Kolkata:20250109T160000
DTSTAMP:20260420T215706
CREATED:20241223T084913Z
LAST-MODIFIED:20241227T105113Z
UID:43767-1736420400-1736438400@sskalakendra.org
SUMMARY:Purulia Zonal Meeting
DESCRIPTION:
URL:https://sskalakendra.org/event/purulia-zonal-meeting/
LOCATION:Hotel Rupasi Bangla\, Roshan Plaza\, 1st Floor\, B.T. Sarkar Rd\, near Zilla School More\, Purulia\, West Bengal\, 723102\, India
CATEGORIES:Zonal Meeting
ATTACH;FMTTYPE=image/jpeg:https://sskalakendra.org/wp-content/uploads/471443196_995667832606955_3359015061875153638_n.jpg
END:VEVENT
END:VCALENDAR